BEGIN:VCALENDAR
VERSION:2.0
PRODID:-//eventon.com NONSGML v1.0//EN
CALSCALE:GREGORIAN
METHOD:PUBLISH
BEGIN:VEVENT
UID:69e74ecb537c2
DTSTAMP:20260421T101747
DTSTART:20260224T100000Z
DTEND:20260225T170000Z
TZID:UTC
LOCATION:
SUMMARY:Intro - Einführung in SOMA-Embodiment® - Köln\,  UTA-Akademie\,  Deutschland
DESCRIPTION:UTA-Akademie\,  Köln https://www.uta-akademie.de/de/angebot/einfuehrung-soma-embodimentrEinfuehrung in SOMAEmbodimentR Einfuehrung in SOMAEmbodimentR &nbsp; &nbsp;\nhttps://somaembodiment.org/events/intro-einfuhrung-in-soma-embodiment-koln-uta-akademie-deutschland/
URL:https://somaembodiment.org/events/intro-einfuhrung-in-soma-embodiment-koln-uta-akademie-deutschland/
END:VEVENT
END:VCALENDAR